BEGIN:VCALENDAR
VERSION:2.0
PRODID:-//Impulse Band - Tampa Florida Reggae and Caribbean World Music Band - ECPv5.14.0.4//NONSGML v1.0//EN
CALSCALE:GREGORIAN
METHOD:PUBLISH
X-WR-CALNAME:Impulse Band - Tampa Florida Reggae and Caribbean World Music Band
X-ORIGINAL-URL:https://impulsevibes.com
X-WR-CALDESC:Events for Impulse Band - Tampa Florida Reggae and Caribbean World Music Band
BEGIN:VTIMEZONE
TZID:UTC
BEGIN:STANDARD
TZOFFSETFROM:+0000
TZOFFSETTO:+0000
TZNAME:UTC
DTSTART:20160101T000000
END:STANDARD
END:VTIMEZONE
BEGIN:VEVENT
DTSTART;TZID=UTC:20160430T070000
DTEND;TZID=UTC:20160430T230000
DTSTAMP:20260425T164424
CREATED:20160328T023546Z
LAST-MODIFIED:20160328T023546Z
UID:425-1461999600-1462057200@impulsevibes.com
SUMMARY:GETAWAY...Live
DESCRIPTION:
URL:https://impulsevibes.com/event/getaway-live-3/
LOCATION:GETAWAY\, ST PETE'S ...FL\, United States
CATEGORIES:Gigs
END:VEVENT
END:VCALENDAR