BEGIN:VCALENDAR
VERSION:2.0
PRODID:-//Impulse Band - Tampa Florida Reggae and Caribbean World Music Band - ECPv5.14.0.4//NONSGML v1.0//EN
CALSCALE:GREGORIAN
METHOD:PUBLISH
X-WR-CALNAME:Impulse Band - Tampa Florida Reggae and Caribbean World Music Band
X-ORIGINAL-URL:https://impulsevibes.com
X-WR-CALDESC:Events for Impulse Band - Tampa Florida Reggae and Caribbean World Music Band
BEGIN:VTIMEZONE
TZID:UTC
BEGIN:STANDARD
TZOFFSETFROM:+0000
TZOFFSETTO:+0000
TZNAME:UTC
DTSTART:20160101T000000
END:STANDARD
END:VTIMEZONE
BEGIN:VEVENT
DTSTART;TZID=UTC:20160508T130000
DTEND;TZID=UTC:20160508T170000
DTSTAMP:20260425T073115
CREATED:20160506T054957Z
LAST-MODIFIED:20160506T054957Z
UID:432-1462712400-1462726800@impulsevibes.com
SUMMARY:SAFETY HARBOR SPAR
DESCRIPTION:
URL:https://impulsevibes.com/event/safety-harbor-spar/
LOCATION:SAFETY HARBOR SPA\, FL\, United States
CATEGORIES:Gigs
END:VEVENT
END:VCALENDAR