BEGIN:VCALENDAR
VERSION:2.0
PRODID:-//Impulse Band - Tampa Florida Reggae and Caribbean World Music Band - ECPv5.14.0.4//NONSGML v1.0//EN
CALSCALE:GREGORIAN
METHOD:PUBLISH
X-WR-CALNAME:Impulse Band - Tampa Florida Reggae and Caribbean World Music Band
X-ORIGINAL-URL:https://impulsevibes.com
X-WR-CALDESC:Events for Impulse Band - Tampa Florida Reggae and Caribbean World Music Band
BEGIN:VTIMEZONE
TZID:UTC
BEGIN:STANDARD
TZOFFSETFROM:+0000
TZOFFSETTO:+0000
TZNAME:UTC
DTSTART:20160101T000000
END:STANDARD
END:VTIMEZONE
BEGIN:VEVENT
DTSTART;TZID=UTC:20160506T200000
DTEND;TZID=UTC:20160506T200000
DTSTAMP:20260425T105130
CREATED:20160506T054319Z
LAST-MODIFIED:20160506T054319Z
UID:430-1462564800-1462564800@impulsevibes.com
SUMMARY:SHARKY'S  Nite on the pier
DESCRIPTION:
URL:https://impulsevibes.com/event/sharkys-nite-on-the-pier/
LOCATION:SHARKY’s  ON THE PIER\, 1600 Harbor Drive South\, Venice\, FL\, 34285\, United States
CATEGORIES:Gigs
END:VEVENT
END:VCALENDAR