BEGIN:VCALENDAR
VERSION:2.0
PRODID:-//Impulse Band - Tampa Florida Reggae and Caribbean World Music Band - ECPv5.14.0.4//NONSGML v1.0//EN
CALSCALE:GREGORIAN
METHOD:PUBLISH
X-WR-CALNAME:Impulse Band - Tampa Florida Reggae and Caribbean World Music Band
X-ORIGINAL-URL:https://impulsevibes.com
X-WR-CALDESC:Events for Impulse Band - Tampa Florida Reggae and Caribbean World Music Band
BEGIN:VTIMEZONE
TZID:UTC
BEGIN:STANDARD
TZOFFSETFROM:+0000
TZOFFSETTO:+0000
TZNAME:UTC
DTSTART:20160101T000000
END:STANDARD
END:VTIMEZONE
BEGIN:VEVENT
DTSTART;TZID=UTC:20160504T200000
DTEND;TZID=UTC:20160504T200000
DTSTAMP:20260425T121536
CREATED:20160506T053613Z
LAST-MODIFIED:20160506T053613Z
UID:429-1462392000-1462392000@impulsevibes.com
SUMMARY:SKIPPERS Smoke House  Island Nite
DESCRIPTION:
URL:https://impulsevibes.com/event/skippers-smoke-house-island-nite/
LOCATION:Skipper’s Smokehouse\, 910 Skipper Rd.\, Tampa\, FL\, 33613\, United States
CATEGORIES:Gigs
END:VEVENT
END:VCALENDAR