BEGIN:VCALENDAR
VERSION:2.0
PRODID:-//Impulse Band - Tampa Florida Reggae and Caribbean World Music Band - ECPv5.14.0.4//NONSGML v1.0//EN
CALSCALE:GREGORIAN
METHOD:PUBLISH
X-WR-CALNAME:Impulse Band - Tampa Florida Reggae and Caribbean World Music Band
X-ORIGINAL-URL:https://impulsevibes.com
X-WR-CALDESC:Events for Impulse Band - Tampa Florida Reggae and Caribbean World Music Band
BEGIN:VTIMEZONE
TZID:UTC
BEGIN:STANDARD
TZOFFSETFROM:+0000
TZOFFSETTO:+0000
TZNAME:UTC
DTSTART:20160101T000000
END:STANDARD
END:VTIMEZONE
BEGIN:VEVENT
DTSTART;TZID=UTC:20160501T170000
DTEND;TZID=UTC:20160501T210000
DTSTAMP:20260425T151237
CREATED:20160506T052814Z
LAST-MODIFIED:20160506T052814Z
UID:427-1462122000-1462136400@impulsevibes.com
SUMMARY:WHISKEY JOES The causeway
DESCRIPTION:
URL:https://impulsevibes.com/event/whiskey-joes-the-causeway-6/
LOCATION:Whiskey Joe’s\, 7720 W Courtney Campbell Causeway\, Tampa\, FL\, 33607\, United States
CATEGORIES:Gigs
END:VEVENT
END:VCALENDAR